BEGIN:VCALENDAR
VERSION:2.0
PRODID:-//Climate Finance Innovators - ECPv6.15.15//NONSGML v1.0//EN
CALSCALE:GREGORIAN
METHOD:PUBLISH
X-ORIGINAL-URL:https://climatefinanceinnovators.com/fr/
X-WR-CALDESC:Évènements pour Climate Finance Innovators
REFRESH-INTERVAL;VALUE=DURATION:PT1H
X-Robots-Tag:noindex
X-PUBLISHED-TTL:PT1H
BEGIN:VTIMEZONE
TZID:Europe/Helsinki
BEGIN:DAYLIGHT
TZOFFSETFROM:+0200
TZOFFSETTO:+0300
TZNAME:EEST
DTSTART:20180325T010000
END:DAYLIGHT
BEGIN:STANDARD
TZOFFSETFROM:+0300
TZOFFSETTO:+0200
TZNAME:EET
DTSTART:20181028T010000
END:STANDARD
BEGIN:DAYLIGHT
TZOFFSETFROM:+0200
TZOFFSETTO:+0300
TZNAME:EEST
DTSTART:20190331T010000
END:DAYLIGHT
BEGIN:STANDARD
TZOFFSETFROM:+0300
TZOFFSETTO:+0200
TZNAME:EET
DTSTART:20191027T010000
END:STANDARD
BEGIN:DAYLIGHT
TZOFFSETFROM:+0200
TZOFFSETTO:+0300
TZNAME:EEST
DTSTART:20200329T010000
END:DAYLIGHT
BEGIN:STANDARD
TZOFFSETFROM:+0300
TZOFFSETTO:+0200
TZNAME:EET
DTSTART:20201025T010000
END:STANDARD
END:VTIMEZONE
BEGIN:VEVENT
DTSTART;TZID=Europe/Helsinki:20191212T123000
DTEND;TZID=Europe/Helsinki:20191212T140000
DTSTAMP:20260419T194349
CREATED:20191125T084535Z
LAST-MODIFIED:20191217T103541Z
UID:882-1576153800-1576159200@climatefinanceinnovators.com
SUMMARY:Exploiter les synergies entre les marchés du carbone et la finance climat pour réaliser des CDN ambitieuses
DESCRIPTION:IETA Pavilion \nL’événement présente des initiatives des pays africains qui développent des synergies innovantes entre les mécanismes de marché et la finance climat. Le Sénégal montre comment ces activités appuient la réalisation de leur CDN ainsi que la préparation à la prochaine génération des marchés carbone au titre de l’article 6. \n\n\n\n	Intervenants\n\nMADELEINE DIOUF SARR\nMinistry of Environment and Sustainable Development\, Senegal \n\n\nSTEPHAN HOCH\nPerspectives Climate Group \n\n\nSANDRA GREINER\nClimate Focus \n\n\nOUSMANE FALL SARR\nASER Senegal / West African Alliance \n\n\nEl HADJI MBAYE DIAGNE\nAfrique Energie Environnement \n\n\n\n\n\nDownload PDF
URL:https://climatefinanceinnovators.com/fr/event/harnessing-synergies-between-carbon-markets-and-climate-finance-for-achieving-ambitious-ndcs/
LOCATION:COP 25\, Av. del Partenón\, Nº 5\,\, Madrid\, 28042\, Spain
ATTACH;FMTTYPE=image/jpeg:https://climatefinanceinnovators.com/wp-content/uploads/2019/11/COP25Madrid-small.jpg
END:VEVENT
END:VCALENDAR